BEGIN:VCALENDAR
VERSION:2.0
PRODID:-//Kulla kapell - ECPv5.1.6//NONSGML v1.0//EN
CALSCALE:GREGORIAN
METHOD:PUBLISH
X-WR-CALNAME:Kulla kapell
X-ORIGINAL-URL:https://www.kullakapell.nu
X-WR-CALDESC:Händelser för Kulla kapell
BEGIN:VTIMEZONE
TZID:UTC
BEGIN:STANDARD
TZOFFSETFROM:+0000
TZOFFSETTO:+0000
TZNAME:UTC
DTSTART:20190101T000000
END:STANDARD
END:VTIMEZONE
BEGIN:VEVENT
DTSTART;TZID=UTC:20190127T150000
DTEND;TZID=UTC:20190127T163000
DTSTAMP:20260424T161511
CREATED:20181228T162012Z
LAST-MODIFIED:20190119T150530Z
UID:1209-1548601200-1548606600@www.kullakapell.nu
SUMMARY:27 januari kl 15.00 Söndagsmässa
DESCRIPTION:Predikan Sven-Olof Wallinder \nMusik Yvohn Thunborg
URL:https://www.kullakapell.nu/?tribe_events=27-januari-kl-15-00-sondagsmassa
END:VEVENT
END:VCALENDAR