BEGIN:VCALENDAR
VERSION:2.0
PRODID:-//Kulla kapell - ECPv5.1.6//NONSGML v1.0//EN
CALSCALE:GREGORIAN
METHOD:PUBLISH
X-WR-CALNAME:Kulla kapell
X-ORIGINAL-URL:https://www.kullakapell.nu
X-WR-CALDESC:Händelser för Kulla kapell
BEGIN:VTIMEZONE
TZID:UTC
BEGIN:STANDARD
TZOFFSETFROM:+0000
TZOFFSETTO:+0000
TZNAME:UTC
DTSTART:20160101T000000
END:STANDARD
END:VTIMEZONE
BEGIN:VEVENT
DTSTART;TZID=UTC:20161204T150000
DTEND;TZID=UTC:20161204T163000
DTSTAMP:20260423T102138
CREATED:20160826T154232Z
LAST-MODIFIED:20161108T110821Z
UID:634-1480863600-1480869000@www.kullakapell.nu
SUMMARY:Adventsgudstjänst kl. 15.00 Servering
DESCRIPTION:Predikan Henrik Broman Musik Havseds Servering Kulla Lilla syföreningen ansvarar
URL:https://www.kullakapell.nu/?tribe_events=adventsgudstjanst-kl-11-00-predikan-musik-kulla-lilla-syforeningen-serverar
END:VEVENT
END:VCALENDAR