BEGIN:VCALENDAR
VERSION:2.0
PRODID:-//Kulla kapell - ECPv5.1.6//NONSGML v1.0//EN
CALSCALE:GREGORIAN
METHOD:PUBLISH
X-WR-CALNAME:Kulla kapell
X-ORIGINAL-URL:https://www.kullakapell.nu
X-WR-CALDESC:Händelser för Kulla kapell
BEGIN:VTIMEZONE
TZID:UTC
BEGIN:STANDARD
TZOFFSETFROM:+0000
TZOFFSETTO:+0000
TZNAME:UTC
DTSTART:20140101T000000
END:STANDARD
END:VTIMEZONE
BEGIN:VEVENT
DTSTART;TZID=UTC:20141226T110000
DTEND;TZID=UTC:20141226T123000
DTSTAMP:20260422T151049
CREATED:20141022T094401Z
LAST-MODIFIED:20141022T100726Z
UID:314-1419591600-1419597000@www.kullakapell.nu
SUMMARY:Annandag Jul fredag 26/12  kl. 11.00 Gudstjänst
DESCRIPTION:Predikan Musik Servering Kulla kapellförening
URL:https://www.kullakapell.nu/?tribe_events=annandag-jul-torsdag-2612-kl-11-00-gudstjanst
CATEGORIES:Gudstjänst
END:VEVENT
END:VCALENDAR