BEGIN:VCALENDAR
VERSION:2.0
PRODID:-//Kulla kapell - ECPv5.1.6//NONSGML v1.0//EN
CALSCALE:GREGORIAN
METHOD:PUBLISH
X-WR-CALNAME:Kulla kapell
X-ORIGINAL-URL:https://www.kullakapell.nu
X-WR-CALDESC:Händelser för Kulla kapell
BEGIN:VTIMEZONE
TZID:UTC
BEGIN:STANDARD
TZOFFSETFROM:+0000
TZOFFSETTO:+0000
TZNAME:UTC
DTSTART:20150101T000000
END:STANDARD
END:VTIMEZONE
BEGIN:VEVENT
DTSTART;TZID=UTC:20151018T153000
DTEND;TZID=UTC:20151018T163000
DTSTAMP:20260423T031605
CREATED:20151106T162902Z
LAST-MODIFIED:20151106T162902Z
UID:512-1445182200-1445185800@www.kullakapell.nu
SUMMARY:Barndop söndag 18 oktober kl. 15.30
DESCRIPTION:
URL:https://www.kullakapell.nu/?tribe_events=barndop-sondag-18-oktober-kl-15-30
END:VEVENT
END:VCALENDAR