BEGIN:VCALENDAR
VERSION:2.0
PRODID:-//Kulla kapell - ECPv5.1.6//NONSGML v1.0//EN
CALSCALE:GREGORIAN
METHOD:PUBLISH
X-WR-CALNAME:Kulla kapell
X-ORIGINAL-URL:https://www.kullakapell.nu
X-WR-CALDESC:Händelser för Kulla kapell
BEGIN:VTIMEZONE
TZID:UTC
BEGIN:STANDARD
TZOFFSETFROM:+0000
TZOFFSETTO:+0000
TZNAME:UTC
DTSTART:20150101T000000
END:STANDARD
END:VTIMEZONE
BEGIN:VEVENT
DTSTART;TZID=UTC:20151004T140000
DTEND;TZID=UTC:20151004T150000
DTSTAMP:20260423T015921
CREATED:20151106T162739Z
LAST-MODIFIED:20151106T162739Z
UID:511-1443967200-1443970800@www.kullakapell.nu
SUMMARY:Barndop söndag 4 oktober kl. 14.00
DESCRIPTION:
URL:https://www.kullakapell.nu/?tribe_events=barndop-sondag-4-oktober-kl-14-00
END:VEVENT
END:VCALENDAR