BEGIN:VCALENDAR
VERSION:2.0
PRODID:-//Kulla kapell - ECPv5.1.6//NONSGML v1.0//EN
CALSCALE:GREGORIAN
METHOD:PUBLISH
X-WR-CALNAME:Kulla kapell
X-ORIGINAL-URL:https://www.kullakapell.nu
X-WR-CALDESC:Händelser för Kulla kapell
BEGIN:VTIMEZONE
TZID:UTC
BEGIN:STANDARD
TZOFFSETFROM:+0000
TZOFFSETTO:+0000
TZNAME:UTC
DTSTART:20160101T000000
END:STANDARD
END:VTIMEZONE
BEGIN:VEVENT
DTSTART;TZID=UTC:20160603T090000
DTEND;TZID=UTC:20160603T140000
DTSTAMP:20260423T060202
CREATED:20160425T141026Z
LAST-MODIFIED:20160425T141026Z
UID:595-1464944400-1464962400@www.kullakapell.nu
SUMMARY:Bornelings och Stensholms trädgård fredag 3 juni kl.09.00
DESCRIPTION:Kulla Lilla Syförening ordnar resa till Bornelings\,Boaryd Forserum och Stensholms trädgård\, Esperyd. Samling vid Kulla kapell kl. 09.00 för samåkning. Anmälan till Gun Fransson Tel: 0381-81097 Mobil: 073-9287570
URL:https://www.kullakapell.nu/?tribe_events=bornelings-och-stensholms-tradgard-fredag-3-juni-kl-09-00
END:VEVENT
END:VCALENDAR