BEGIN:VCALENDAR
VERSION:2.0
PRODID:-//Kulla kapell - ECPv5.1.6//NONSGML v1.0//EN
CALSCALE:GREGORIAN
METHOD:PUBLISH
X-WR-CALNAME:Kulla kapell
X-ORIGINAL-URL:https://www.kullakapell.nu
X-WR-CALDESC:Händelser för Kulla kapell
BEGIN:VTIMEZONE
TZID:UTC
BEGIN:STANDARD
TZOFFSETFROM:+0000
TZOFFSETTO:+0000
TZNAME:UTC
DTSTART:20150101T000000
END:STANDARD
END:VTIMEZONE
BEGIN:VEVENT
DTSTART;TZID=UTC:20150215T140000
DTEND;TZID=UTC:20150215T150000
DTSTAMP:20260422T180936
CREATED:20150128T120142Z
LAST-MODIFIED:20150214T175939Z
UID:380-1424008800-1424012400@www.kullakapell.nu
SUMMARY:Dop söndag den 15/2 kl. 14.00
DESCRIPTION:
URL:https://www.kullakapell.nu/?tribe_events=dop
END:VEVENT
END:VCALENDAR