BEGIN:VCALENDAR
VERSION:2.0
PRODID:-//Kulla kapell - ECPv5.1.6//NONSGML v1.0//EN
CALSCALE:GREGORIAN
METHOD:PUBLISH
X-WR-CALNAME:Kulla kapell
X-ORIGINAL-URL:https://www.kullakapell.nu
X-WR-CALDESC:Händelser för Kulla kapell
BEGIN:VTIMEZONE
TZID:UTC
BEGIN:STANDARD
TZOFFSETFROM:+0000
TZOFFSETTO:+0000
TZNAME:UTC
DTSTART:20150101T000000
END:STANDARD
END:VTIMEZONE
BEGIN:VEVENT
DTSTART;TZID=UTC:20150321T110000
DTEND;TZID=UTC:20150321T123000
DTSTAMP:20260422T181040
CREATED:20150214T180835Z
LAST-MODIFIED:20150309T122510Z
UID:391-1426935600-1426941000@www.kullakapell.nu
SUMMARY:Dop 21/3
DESCRIPTION:
URL:https://www.kullakapell.nu/?tribe_events=dop-213
END:VEVENT
END:VCALENDAR