BEGIN:VCALENDAR
VERSION:2.0
PRODID:-//Kulla kapell - ECPv5.1.6//NONSGML v1.0//EN
CALSCALE:GREGORIAN
METHOD:PUBLISH
X-WR-CALNAME:Kulla kapell
X-ORIGINAL-URL:https://www.kullakapell.nu
X-WR-CALDESC:Händelser för Kulla kapell
BEGIN:VTIMEZONE
TZID:UTC
BEGIN:STANDARD
TZOFFSETFROM:+0000
TZOFFSETTO:+0000
TZNAME:UTC
DTSTART:20150101T000000
END:STANDARD
END:VTIMEZONE
BEGIN:VEVENT
DTSTART;TZID=UTC:20150228T110000
DTEND;TZID=UTC:20150228T120000
DTSTAMP:20260422T193443
CREATED:20150128T120322Z
LAST-MODIFIED:20150128T120322Z
UID:381-1425121200-1425124800@www.kullakapell.nu
SUMMARY:Dop 28/2 kl. 11.00
DESCRIPTION:
URL:https://www.kullakapell.nu/?tribe_events=dop-282-kl-11-00
END:VEVENT
END:VCALENDAR