BEGIN:VCALENDAR
VERSION:2.0
PRODID:-//Kulla kapell - ECPv5.1.6//NONSGML v1.0//EN
CALSCALE:GREGORIAN
METHOD:PUBLISH
X-WR-CALNAME:Kulla kapell
X-ORIGINAL-URL:https://www.kullakapell.nu
X-WR-CALDESC:Händelser för Kulla kapell
BEGIN:VTIMEZONE
TZID:UTC
BEGIN:STANDARD
TZOFFSETFROM:+0000
TZOFFSETTO:+0000
TZNAME:UTC
DTSTART:20160101T000000
END:STANDARD
END:VTIMEZONE
BEGIN:VEVENT
DTSTART;TZID=UTC:20160130T140000
DTEND;TZID=UTC:20160130T153000
DTSTAMP:20260423T043326
CREATED:20160117T153834Z
LAST-MODIFIED:20160117T153834Z
UID:530-1454162400-1454167800@www.kullakapell.nu
SUMMARY:Dop 30 januari kl.14.00
DESCRIPTION:
URL:https://www.kullakapell.nu/?tribe_events=dop-30-januari-kl-14-00
END:VEVENT
END:VCALENDAR