BEGIN:VCALENDAR
VERSION:2.0
PRODID:-//Kulla kapell - ECPv5.1.6//NONSGML v1.0//EN
CALSCALE:GREGORIAN
METHOD:PUBLISH
X-WR-CALNAME:Kulla kapell
X-ORIGINAL-URL:https://www.kullakapell.nu
X-WR-CALDESC:Händelser för Kulla kapell
BEGIN:VTIMEZONE
TZID:UTC
BEGIN:STANDARD
TZOFFSETFROM:+0000
TZOFFSETTO:+0000
TZNAME:UTC
DTSTART:20180101T000000
END:STANDARD
END:VTIMEZONE
BEGIN:VEVENT
DTSTART;TZID=UTC:20180402T110000
DTEND;TZID=UTC:20180402T123000
DTSTAMP:20260424T044546
CREATED:20180121T105621Z
LAST-MODIFIED:20180319T111013Z
UID:969-1522666800-1522672200@www.kullakapell.nu
SUMMARY:Emmaus mässa Annandag Påsk 2 april kl. 11.00
DESCRIPTION:  \nEmmaus mässa Predikan Henrik Broman Musik Maria Uggla
URL:https://www.kullakapell.nu/?tribe_events=emmaus-massa-annandag-pask-2-april-kl-11-00
END:VEVENT
END:VCALENDAR