BEGIN:VCALENDAR
VERSION:2.0
PRODID:-//Kulla kapell - ECPv5.1.6//NONSGML v1.0//EN
CALSCALE:GREGORIAN
METHOD:PUBLISH
X-WR-CALNAME:Kulla kapell
X-ORIGINAL-URL:https://www.kullakapell.nu
X-WR-CALDESC:Händelser för Kulla kapell
BEGIN:VTIMEZONE
TZID:UTC
BEGIN:STANDARD
TZOFFSETFROM:+0000
TZOFFSETTO:+0000
TZNAME:UTC
DTSTART:20170101T000000
END:STANDARD
END:VTIMEZONE
BEGIN:VEVENT
DTSTART;TZID=UTC:20170417T110000
DTEND;TZID=UTC:20170417T123000
DTSTAMP:20260423T161136
CREATED:20170119T220546Z
LAST-MODIFIED:20170329T062934Z
UID:720-1492426800-1492432200@www.kullakapell.nu
SUMMARY:Emmausmässa Annandag Påsk 17 april kl. 11.00
DESCRIPTION:Predikan Hanna Alenius Musik Havseds Vid bra väder blir det en Emmausvandring runt kapellet. Hela gamla pastoratet är inbjudet.
URL:https://www.kullakapell.nu/?tribe_events=emmausmassa-annandag-pask-17-april-kl-11-00
END:VEVENT
END:VCALENDAR