BEGIN:VCALENDAR
VERSION:2.0
PRODID:-//Kulla kapell - ECPv5.1.6//NONSGML v1.0//EN
CALSCALE:GREGORIAN
METHOD:PUBLISH
X-WR-CALNAME:Kulla kapell
X-ORIGINAL-URL:https://www.kullakapell.nu
X-WR-CALDESC:Händelser för Kulla kapell
BEGIN:VTIMEZONE
TZID:UTC
BEGIN:STANDARD
TZOFFSETFROM:+0000
TZOFFSETTO:+0000
TZNAME:UTC
DTSTART:20160101T000000
END:STANDARD
END:VTIMEZONE
BEGIN:VEVENT
DTSTART;TZID=UTC:20160328T110000
DTEND;TZID=UTC:20160328T123000
DTSTAMP:20260423T031502
CREATED:20160203T141317Z
LAST-MODIFIED:20160307T155129Z
UID:552-1459162800-1459168200@www.kullakapell.nu
SUMMARY:Emmausmässa Annandag Påsk 28 mars kl. 11.00
DESCRIPTION:Predikan Henrik Broman Musik Lilian Havsed
URL:https://www.kullakapell.nu/?tribe_events=emmausmassa-annandag-pask-28-mars-kl-11-00
END:VEVENT
END:VCALENDAR