BEGIN:VCALENDAR
VERSION:2.0
PRODID:-//Kulla kapell - ECPv5.1.6//NONSGML v1.0//EN
CALSCALE:GREGORIAN
METHOD:PUBLISH
X-WR-CALNAME:Kulla kapell
X-ORIGINAL-URL:https://www.kullakapell.nu
X-WR-CALDESC:Händelser för Kulla kapell
BEGIN:VTIMEZONE
TZID:UTC
BEGIN:STANDARD
TZOFFSETFROM:+0000
TZOFFSETTO:+0000
TZNAME:UTC
DTSTART:20150101T000000
END:STANDARD
END:VTIMEZONE
BEGIN:VEVENT
DTSTART;TZID=UTC:20150406T110000
DTEND;TZID=UTC:20150406T123000
DTSTAMP:20260422T212320
CREATED:20150127T131722Z
LAST-MODIFIED:20150319T212418Z
UID:356-1428318000-1428323400@www.kullakapell.nu
SUMMARY:Emmausmässa kl.11.00
DESCRIPTION:Annandags gudstjänst för församlingsområdet. Predikan Per Wallett Kyrkkaffe
URL:https://www.kullakapell.nu/?tribe_events=emmausmassa-kl-11-00
END:VEVENT
END:VCALENDAR