BEGIN:VCALENDAR
VERSION:2.0
PRODID:-//Kulla kapell - ECPv5.1.6//NONSGML v1.0//EN
CALSCALE:GREGORIAN
METHOD:PUBLISH
X-WR-CALNAME:Kulla kapell
X-ORIGINAL-URL:https://www.kullakapell.nu
X-WR-CALDESC:Händelser för Kulla kapell
BEGIN:VTIMEZONE
TZID:UTC
BEGIN:STANDARD
TZOFFSETFROM:+0000
TZOFFSETTO:+0000
TZNAME:UTC
DTSTART:20150101T000000
END:STANDARD
END:VTIMEZONE
BEGIN:VEVENT
DTSTART;TZID=UTC:20151002T190000
DTEND;TZID=UTC:20151002T210000
DTSTAMP:20260423T003145
CREATED:20150825T153309Z
LAST-MODIFIED:20150826T142442Z
UID:445-1443812400-1443819600@www.kullakapell.nu
SUMMARY:Församlingsafton 2/10 kl. 19.00 med Åsa Hultegård
DESCRIPTION:Församlingsafton Åsa Hultegård visar bilder och berättar om sin tid som volontär i Afrika Andakt Musik Lotterier Dragning på Stora Lotteriet Servering!\nKulla Lilla Syförening hälsar alla Välkomna!
URL:https://www.kullakapell.nu/?tribe_events=forsamlingsafton-259-kl-19-00
CATEGORIES:Församlingsafton
END:VEVENT
END:VCALENDAR