BEGIN:VCALENDAR
VERSION:2.0
PRODID:-//Kulla kapell - ECPv5.1.6//NONSGML v1.0//EN
CALSCALE:GREGORIAN
METHOD:PUBLISH
X-WR-CALNAME:Kulla kapell
X-ORIGINAL-URL:https://www.kullakapell.nu
X-WR-CALDESC:Händelser för Kulla kapell
BEGIN:VTIMEZONE
TZID:UTC
BEGIN:STANDARD
TZOFFSETFROM:+0000
TZOFFSETTO:+0000
TZNAME:UTC
DTSTART:20160101T000000
END:STANDARD
END:VTIMEZONE
BEGIN:VEVENT
DTSTART;TZID=UTC:20160226T190000
DTEND;TZID=UTC:20160226T210000
DTSTAMP:20260423T055336
CREATED:20160202T220655Z
LAST-MODIFIED:20160203T141058Z
UID:500-1456513200-1456520400@www.kullakapell.nu
SUMMARY:Församlingsafton 26 februari kl. 19.00 med Cittragruppen från Aneby
DESCRIPTION:Cittragruppen från Aneby sjunger och spelar under ledning av Ulf Lundberg Andakt Birgitta Carsnäs Musik Maria Uggla Lotterier Servering Kulla Lilla Syförening hälsar alla Välkomna!
URL:https://www.kullakapell.nu/?tribe_events=forsamlingsafton-4-mars-kl-19-00
END:VEVENT
END:VCALENDAR