BEGIN:VCALENDAR
VERSION:2.0
PRODID:-//Kulla kapell - ECPv5.1.6//NONSGML v1.0//EN
CALSCALE:GREGORIAN
METHOD:PUBLISH
X-WR-CALNAME:Kulla kapell
X-ORIGINAL-URL:https://www.kullakapell.nu
X-WR-CALDESC:Händelser för Kulla kapell
BEGIN:VTIMEZONE
TZID:UTC
BEGIN:STANDARD
TZOFFSETFROM:+0000
TZOFFSETTO:+0000
TZNAME:UTC
DTSTART:20180101T000000
END:STANDARD
END:VTIMEZONE
BEGIN:VEVENT
DTSTART;TZID=UTC:20180921T190000
DTEND;TZID=UTC:20180921T210000
DTSTAMP:20260424T103133
CREATED:20180508T150811Z
LAST-MODIFIED:20180916T143220Z
UID:1041-1537556400-1537563600@www.kullakapell.nu
SUMMARY:Församlingsafton  fredag 21 september kl.19.00 Landshövding Helena Jonson kåserar.
DESCRIPTION:Kvällens gäst: Landshövding Helena Jonsson\nAndakt Henrik Broman Musik Lilian Havsed Lotterier Dragning av Stora Lotteriet Servering Kulla Lilla Syförening hälsar alla Välkomna!
URL:https://www.kullakapell.nu/?tribe_events=forsamlingsafton-fredag-21-september-kl-19-00
END:VEVENT
END:VCALENDAR