BEGIN:VCALENDAR
VERSION:2.0
PRODID:-//Kulla kapell - ECPv5.1.6//NONSGML v1.0//EN
CALSCALE:GREGORIAN
METHOD:PUBLISH
X-WR-CALNAME:Kulla kapell
X-ORIGINAL-URL:https://www.kullakapell.nu
X-WR-CALDESC:Händelser för Kulla kapell
BEGIN:VTIMEZONE
TZID:UTC
BEGIN:STANDARD
TZOFFSETFROM:+0000
TZOFFSETTO:+0000
TZNAME:UTC
DTSTART:20170101T000000
END:STANDARD
END:VTIMEZONE
BEGIN:VEVENT
DTSTART;TZID=UTC:20170922T190000
DTEND;TZID=UTC:20170922T210000
DTSTAMP:20260423T222033
CREATED:20170501T104844Z
LAST-MODIFIED:20170920T195546Z
UID:813-1506106800-1506114000@www.kullakapell.nu
SUMMARY:Församlingsafton fredag 22 september kl. 19.00
DESCRIPTION:Svante Johansson berättar om och visar bilder från Isåsa mejeri. Andakt Hanna Alenius Musik Urban Gärdborn Lotterier Servering Dragning av stora lotteriet Försäljning av Kullafilmen. Kulla Lilla Syförening hälsar alla välkomna!
URL:https://www.kullakapell.nu/?tribe_events=forsamlingsafton-fredag-22-september-kl-19-00
END:VEVENT
END:VCALENDAR