BEGIN:VCALENDAR
VERSION:2.0
PRODID:-//Kulla kapell - ECPv5.1.6//NONSGML v1.0//EN
CALSCALE:GREGORIAN
METHOD:PUBLISH
X-WR-CALNAME:Kulla kapell
X-ORIGINAL-URL:https://www.kullakapell.nu
X-WR-CALDESC:Händelser för Kulla kapell
BEGIN:VTIMEZONE
TZID:UTC
BEGIN:STANDARD
TZOFFSETFROM:+0000
TZOFFSETTO:+0000
TZNAME:UTC
DTSTART:20160101T000000
END:STANDARD
END:VTIMEZONE
BEGIN:VEVENT
DTSTART;TZID=UTC:20160923T190000
DTEND;TZID=UTC:20160923T210000
DTSTAMP:20260423T072203
CREATED:20160417T205233Z
LAST-MODIFIED:20160901T093029Z
UID:592-1474657200-1474664400@www.kullakapell.nu
SUMMARY:Församlingsafton fredag 23 september kl. 19.00 Kullafilmen Evert Eriksson sjunger och spelar
DESCRIPTION:Visning av Kullafilmen Andakt Henrik Broman Musik Evert Eriksson sjunger och spelar gitarr Lotterier Servering\nKulla Lilla Syförening hälsar alla Välkomna!
URL:https://www.kullakapell.nu/?tribe_events=forsamlingsafton-fredag-23-september-kl-19-00
END:VEVENT
END:VCALENDAR