BEGIN:VCALENDAR
VERSION:2.0
PRODID:-//Kulla kapell - ECPv5.1.6//NONSGML v1.0//EN
CALSCALE:GREGORIAN
METHOD:PUBLISH
X-WR-CALNAME:Kulla kapell
X-ORIGINAL-URL:https://www.kullakapell.nu
X-WR-CALDESC:Händelser för Kulla kapell
BEGIN:VTIMEZONE
TZID:UTC
BEGIN:STANDARD
TZOFFSETFROM:+0000
TZOFFSETTO:+0000
TZNAME:UTC
DTSTART:20190101T000000
END:STANDARD
END:VTIMEZONE
BEGIN:VEVENT
DTSTART;TZID=UTC:20191025T183000
DTEND;TZID=UTC:20191025T210000
DTSTAMP:20260424T044541
CREATED:20190529T073537Z
LAST-MODIFIED:20191028T071137Z
UID:1362-1572028200-1572037200@www.kullakapell.nu
SUMMARY:Fredag 25/10 kl 18.30 Kulla kapell auktionen
DESCRIPTION:Andakt Henrik Broman \nAuktionsropare Göte Johansson \nMusik Urban Gärdborn \nLotterier Ostkaka \nServering \nKulla kapellföreningen hälsar alla välkomna! \nGåvor mottages tacksamt.
URL:https://www.kullakapell.nu/?tribe_events=fredag-25-10-kl-18-30-kulla-kapell-auktionen
END:VEVENT
END:VCALENDAR