BEGIN:VCALENDAR
VERSION:2.0
PRODID:-//Kulla kapell - ECPv5.1.6//NONSGML v1.0//EN
CALSCALE:GREGORIAN
METHOD:PUBLISH
X-WR-CALNAME:Kulla kapell
X-ORIGINAL-URL:https://www.kullakapell.nu
X-WR-CALDESC:Händelser för Kulla kapell
BEGIN:VTIMEZONE
TZID:UTC
BEGIN:STANDARD
TZOFFSETFROM:+0000
TZOFFSETTO:+0000
TZNAME:UTC
DTSTART:20220101T000000
END:STANDARD
END:VTIMEZONE
BEGIN:VEVENT
DTSTART;TZID=UTC:20220930T190000
DTEND;TZID=UTC:20220930T210000
DTSTAMP:20260424T161900
CREATED:20220518T185954Z
LAST-MODIFIED:20220905T125707Z
UID:1952-1664564400-1664571600@www.kullakapell.nu
SUMMARY:Fredagen 30 september kl. 19.00 församlingsafton med Berit Arvidsson
DESCRIPTION:Berit Arvidsson tar oss med hur man upptäckte hur man kunde förvandla axet till bröd. Det är många anknytningar till Bibeln\, där finns en guldgruva att ösa ur.\nAndakt Per von Stöckel Walett\nMusik Yvohn Thunborg\nServering\nLotterier\nKulla Lilla Syförening hälsar alla välkomna till en spännande kväll!
URL:https://www.kullakapell.nu/?tribe_events=fredagen-30-september-kl-19-00-forsamlingsafton-med-berit-arvidsson
END:VEVENT
END:VCALENDAR