BEGIN:VCALENDAR
VERSION:2.0
PRODID:-//Kulla kapell - ECPv5.1.6//NONSGML v1.0//EN
CALSCALE:GREGORIAN
METHOD:PUBLISH
X-WR-CALNAME:Kulla kapell
X-ORIGINAL-URL:https://www.kullakapell.nu
X-WR-CALDESC:Händelser för Kulla kapell
BEGIN:VTIMEZONE
TZID:UTC
BEGIN:STANDARD
TZOFFSETFROM:+0000
TZOFFSETTO:+0000
TZNAME:UTC
DTSTART:20150101T000000
END:STANDARD
END:VTIMEZONE
BEGIN:VEVENT
DTSTART;TZID=UTC:20150607T150000
DTEND;TZID=UTC:20150607T163000
DTSTAMP:20260422T194452
CREATED:20150127T132808Z
LAST-MODIFIED:20150605T122147Z
UID:363-1433689200-1433694600@www.kullakapell.nu
SUMMARY:Friluftsgudstjänst vid Högakullesjön kl. 15.00
DESCRIPTION:Friluftsgudstjänst vid Högakullesjön Predikan  Henrik Broman Musik Maria Uggla  Kollekt till Svenska Kyrkans Internationella arbete. Medtag kaffekorg och något att sitta på. (Vid regn i Kulla Kapell)
URL:https://www.kullakapell.nu/?tribe_events=friluftsgudstjanst-vid-hogakullesjon-kl-15-00
END:VEVENT
END:VCALENDAR