BEGIN:VCALENDAR
VERSION:2.0
PRODID:-//Kulla kapell - ECPv5.1.6//NONSGML v1.0//EN
CALSCALE:GREGORIAN
METHOD:PUBLISH
X-WR-CALNAME:Kulla kapell
X-ORIGINAL-URL:https://www.kullakapell.nu
X-WR-CALDESC:Händelser för Kulla kapell
BEGIN:VTIMEZONE
TZID:UTC
BEGIN:STANDARD
TZOFFSETFROM:+0000
TZOFFSETTO:+0000
TZNAME:UTC
DTSTART:20160101T000000
END:STANDARD
END:VTIMEZONE
BEGIN:VEVENT
DTSTART;TZID=UTC:20160313T150000
DTEND;TZID=UTC:20160313T170000
DTSTAMP:20260423T020033
CREATED:20151106T163545Z
LAST-MODIFIED:20160307T155028Z
UID:514-1457881200-1457888400@www.kullakapell.nu
SUMMARY:Gudstjänst 13 mars kl. 15.00 därefter årsmöte
DESCRIPTION:Predikan Birgitta Carsnäs Musik Maria Uggla Servering med våfflor. Kulla kapellföreningens årsmöte.
URL:https://www.kullakapell.nu/?tribe_events=gudstjanst-13-mars-kl-15-00-darefter-arsmote
END:VEVENT
END:VCALENDAR