BEGIN:VCALENDAR
VERSION:2.0
PRODID:-//Kulla kapell - ECPv5.1.6//NONSGML v1.0//EN
CALSCALE:GREGORIAN
METHOD:PUBLISH
X-WR-CALNAME:Kulla kapell
X-ORIGINAL-URL:https://www.kullakapell.nu
X-WR-CALDESC:Händelser för Kulla kapell
BEGIN:VTIMEZONE
TZID:UTC
BEGIN:STANDARD
TZOFFSETFROM:+0000
TZOFFSETTO:+0000
TZNAME:UTC
DTSTART:20150101T000000
END:STANDARD
END:VTIMEZONE
BEGIN:VEVENT
DTSTART;TZID=UTC:20150222T150000
DTEND;TZID=UTC:20150222T160000
DTSTAMP:20260422T181133
CREATED:20150104T162856Z
LAST-MODIFIED:20150210T191125Z
UID:350-1424617200-1424620800@www.kullakapell.nu
SUMMARY:Gudstjänst 22/2 kl. 15.00
DESCRIPTION:Predikan Henrik Broman Musik Maria Uggla
URL:https://www.kullakapell.nu/?tribe_events=gudstjanst-222-kl-15-00
END:VEVENT
END:VCALENDAR