BEGIN:VCALENDAR
VERSION:2.0
PRODID:-//Kulla kapell - ECPv5.1.6//NONSGML v1.0//EN
CALSCALE:GREGORIAN
METHOD:PUBLISH
X-WR-CALNAME:Kulla kapell
X-ORIGINAL-URL:https://www.kullakapell.nu
X-WR-CALDESC:Händelser för Kulla kapell
BEGIN:VTIMEZONE
TZID:UTC
BEGIN:STANDARD
TZOFFSETFROM:+0000
TZOFFSETTO:+0000
TZNAME:UTC
DTSTART:20180101T000000
END:STANDARD
END:VTIMEZONE
BEGIN:VEVENT
DTSTART;TZID=UTC:20180225T150000
DTEND;TZID=UTC:20180225T170000
DTSTAMP:20260424T012325
CREATED:20180121T103454Z
LAST-MODIFIED:20180121T103454Z
UID:958-1519570800-1519578000@www.kullakapell.nu
SUMMARY:Gudstjänst 25 februari kl. 15.00 Våffelservering Årsmöte
DESCRIPTION:Predikan Hanna Alenius Musik Maria Uggla Våffelservering därefter Kulla kapellföreningens årsmöte
URL:https://www.kullakapell.nu/?tribe_events=gudstjanst-25-februari-kl-15-00-vaffelservering-arsmote
END:VEVENT
END:VCALENDAR