BEGIN:VCALENDAR
VERSION:2.0
PRODID:-//Kulla kapell - ECPv5.1.6//NONSGML v1.0//EN
CALSCALE:GREGORIAN
METHOD:PUBLISH
X-WR-CALNAME:Kulla kapell
X-ORIGINAL-URL:https://www.kullakapell.nu
X-WR-CALDESC:Händelser för Kulla kapell
BEGIN:VTIMEZONE
TZID:UTC
BEGIN:STANDARD
TZOFFSETFROM:+0000
TZOFFSETTO:+0000
TZNAME:UTC
DTSTART:20160101T000000
END:STANDARD
END:VTIMEZONE
BEGIN:VEVENT
DTSTART;TZID=UTC:20160228T150000
DTEND;TZID=UTC:20160228T163000
DTSTAMP:20260423T031557
CREATED:20151106T163306Z
LAST-MODIFIED:20160203T143302Z
UID:513-1456671600-1456677000@www.kullakapell.nu
SUMMARY:Gudstjänst 28 februari kl. 15.00
DESCRIPTION:Predikan Birgitta Carsnäs Musik Lilian Havsed
URL:https://www.kullakapell.nu/?tribe_events=gudstjanst-28-februari-kl-15-00
END:VEVENT
END:VCALENDAR