BEGIN:VCALENDAR
VERSION:2.0
PRODID:-//Kulla kapell - ECPv5.1.6//NONSGML v1.0//EN
CALSCALE:GREGORIAN
METHOD:PUBLISH
X-WR-CALNAME:Kulla kapell
X-ORIGINAL-URL:https://www.kullakapell.nu
X-WR-CALDESC:Händelser för Kulla kapell
BEGIN:VTIMEZONE
TZID:UTC
BEGIN:STANDARD
TZOFFSETFROM:+0000
TZOFFSETTO:+0000
TZNAME:UTC
DTSTART:20150101T000000
END:STANDARD
END:VTIMEZONE
BEGIN:VEVENT
DTSTART;TZID=UTC:20150125T150000
DTEND;TZID=UTC:20150125T160000
DTSTAMP:20260422T152325
CREATED:20150104T162345Z
LAST-MODIFIED:20150122T100323Z
UID:349-1422198000-1422201600@www.kullakapell.nu
SUMMARY:Gudstjänst 25/1 kl.15.00
DESCRIPTION:Predikan Anders Gustavsson Musik Ruben Havsed
URL:https://www.kullakapell.nu/?tribe_events=gudstjanst-kl-15-00-2
END:VEVENT
END:VCALENDAR