BEGIN:VCALENDAR
VERSION:2.0
PRODID:-//Kulla kapell - ECPv5.1.6//NONSGML v1.0//EN
CALSCALE:GREGORIAN
METHOD:PUBLISH
X-WR-CALNAME:Kulla kapell
X-ORIGINAL-URL:https://www.kullakapell.nu
X-WR-CALDESC:Händelser för Kulla kapell
BEGIN:VTIMEZONE
TZID:UTC
BEGIN:STANDARD
TZOFFSETFROM:+0000
TZOFFSETTO:+0000
TZNAME:UTC
DTSTART:20150101T000000
END:STANDARD
END:VTIMEZONE
BEGIN:VEVENT
DTSTART;TZID=UTC:20150322T150000
DTEND;TZID=UTC:20150322T170000
DTSTAMP:20260422T195438
CREATED:20150127T125749Z
LAST-MODIFIED:20150317T093922Z
UID:352-1427036400-1427043600@www.kullakapell.nu
SUMMARY:Gudstjänst med Kulla kapellföreningens årsmöte kl. 15.00 Kaffe och våfflor
DESCRIPTION:Gudstjänst Predikan Anders Gustavsson Musik Maria Uggla Kyrkkaffe med våfflor därefter Kulla kapellföreningens årsmöte
URL:https://www.kullakapell.nu/?tribe_events=gudstjanst-med-kulla-kapellforeningens-arsmote-kl-15-00
END:VEVENT
END:VCALENDAR