BEGIN:VCALENDAR
VERSION:2.0
PRODID:-//Kulla kapell - ECPv5.1.6//NONSGML v1.0//EN
CALSCALE:GREGORIAN
METHOD:PUBLISH
X-WR-CALNAME:Kulla kapell
X-ORIGINAL-URL:https://www.kullakapell.nu
X-WR-CALDESC:Händelser för Kulla kapell
BEGIN:VTIMEZONE
TZID:UTC
BEGIN:STANDARD
TZOFFSETFROM:+0000
TZOFFSETTO:+0000
TZNAME:UTC
DTSTART:20190101T000000
END:STANDARD
END:VTIMEZONE
BEGIN:VEVENT
DTSTART;TZID=UTC:20190811T150000
DTEND;TZID=UTC:20190811T170000
DTSTAMP:20260424T092119
CREATED:20190423T110320Z
LAST-MODIFIED:20190729T141634Z
UID:1331-1565535600-1565542800@www.kullakapell.nu
SUMMARY:Gudstjänst söndag 11 augusti kl.15.00
DESCRIPTION:Predikan Hanna Alenius\nMusik Yvohn Thunborg
URL:https://www.kullakapell.nu/?tribe_events=gudstjanst-sondag-11-augusti-kl-15-00
END:VEVENT
END:VCALENDAR