BEGIN:VCALENDAR
VERSION:2.0
PRODID:-//Kulla kapell - ECPv5.1.6//NONSGML v1.0//EN
CALSCALE:GREGORIAN
METHOD:PUBLISH
X-WR-CALNAME:Kulla kapell
X-ORIGINAL-URL:https://www.kullakapell.nu
X-WR-CALDESC:Händelser för Kulla kapell
BEGIN:VTIMEZONE
TZID:UTC
BEGIN:STANDARD
TZOFFSETFROM:+0000
TZOFFSETTO:+0000
TZNAME:UTC
DTSTART:20160101T000000
END:STANDARD
END:VTIMEZONE
BEGIN:VEVENT
DTSTART;TZID=UTC:20161113T150000
DTEND;TZID=UTC:20161113T163000
DTSTAMP:20260423T090330
CREATED:20160826T153953Z
LAST-MODIFIED:20161020T185107Z
UID:633-1479049200-1479054600@www.kullakapell.nu
SUMMARY:Gudstjänst söndag 13 november kl. 15.00
DESCRIPTION:Predikan Henrik Broman Musik Ruben Havsed
URL:https://www.kullakapell.nu/?tribe_events=gudstjanst-sondag-13-november-kl-15-00-predikan-musik
END:VEVENT
END:VCALENDAR