BEGIN:VCALENDAR
VERSION:2.0
PRODID:-//Kulla kapell - ECPv5.1.6//NONSGML v1.0//EN
CALSCALE:GREGORIAN
METHOD:PUBLISH
X-WR-CALNAME:Kulla kapell
X-ORIGINAL-URL:https://www.kullakapell.nu
X-WR-CALDESC:Händelser för Kulla kapell
BEGIN:VTIMEZONE
TZID:UTC
BEGIN:STANDARD
TZOFFSETFROM:+0000
TZOFFSETTO:+0000
TZNAME:UTC
DTSTART:20180101T000000
END:STANDARD
END:VTIMEZONE
BEGIN:VEVENT
DTSTART;TZID=UTC:20180318T150000
DTEND;TZID=UTC:20180318T163000
DTSTAMP:20260424T044353
CREATED:20180121T105449Z
LAST-MODIFIED:20180319T110930Z
UID:967-1521385200-1521390600@www.kullakapell.nu
SUMMARY:Gudstjänst Söndag 18 mars  kl.15.00
DESCRIPTION:Predikan Hanna Alenius Musik Urban Gärdborn \n 
URL:https://www.kullakapell.nu/?tribe_events=gudstjanst-sondag-18-mars-kl-15-00
END:VEVENT
END:VCALENDAR