BEGIN:VCALENDAR
VERSION:2.0
PRODID:-//Kulla kapell - ECPv5.1.6//NONSGML v1.0//EN
CALSCALE:GREGORIAN
METHOD:PUBLISH
X-WR-CALNAME:Kulla kapell
X-ORIGINAL-URL:https://www.kullakapell.nu
X-WR-CALDESC:Händelser för Kulla kapell
BEGIN:VTIMEZONE
TZID:UTC
BEGIN:STANDARD
TZOFFSETFROM:+0000
TZOFFSETTO:+0000
TZNAME:UTC
DTSTART:20170101T000000
END:STANDARD
END:VTIMEZONE
BEGIN:VEVENT
DTSTART;TZID=UTC:20170326T150000
DTEND;TZID=UTC:20170326T170000
DTSTAMP:20260423T190144
CREATED:20161020T184752Z
LAST-MODIFIED:20170323T104158Z
UID:677-1490540400-1490547600@www.kullakapell.nu
SUMMARY:Gudstjänst söndag 26 mars kl.15.00  Våffelservering Årsmöte
DESCRIPTION:Predikan Henrik Broman Musik Havseds Servering med våfflor  Kulla Kapellföreningens Årsmöte
URL:https://www.kullakapell.nu/?tribe_events=gudstjanst-sondag-26-mars-kl-15-00-servering-arsmote
END:VEVENT
END:VCALENDAR