BEGIN:VCALENDAR
VERSION:2.0
PRODID:-//Kulla kapell - ECPv5.1.6//NONSGML v1.0//EN
CALSCALE:GREGORIAN
METHOD:PUBLISH
X-WR-CALNAME:Kulla kapell
X-ORIGINAL-URL:https://www.kullakapell.nu
X-WR-CALDESC:Händelser för Kulla kapell
BEGIN:VTIMEZONE
TZID:UTC
BEGIN:STANDARD
TZOFFSETFROM:+0000
TZOFFSETTO:+0000
TZNAME:UTC
DTSTART:20180101T000000
END:STANDARD
END:VTIMEZONE
BEGIN:VEVENT
DTSTART;TZID=UTC:20181104T150000
DTEND;TZID=UTC:20181104T173000
DTSTAMP:20260424T102806
CREATED:20180821T204909Z
LAST-MODIFIED:20180821T204909Z
UID:1121-1541343600-1541352600@www.kullakapell.nu
SUMMARY:Gudstjänst Söndag 4 november kl. 15.00 Predikan Musik
DESCRIPTION:
URL:https://www.kullakapell.nu/?tribe_events=gudstjanst-sondag-4-november-kl-15-00-predikan-musik
END:VEVENT
END:VCALENDAR