BEGIN:VCALENDAR
VERSION:2.0
PRODID:-//Kulla kapell - ECPv5.1.6//NONSGML v1.0//EN
CALSCALE:GREGORIAN
METHOD:PUBLISH
X-WR-CALNAME:Kulla kapell
X-ORIGINAL-URL:https://www.kullakapell.nu
X-WR-CALDESC:Händelser för Kulla kapell
BEGIN:VTIMEZONE
TZID:UTC
BEGIN:STANDARD
TZOFFSETFROM:+0000
TZOFFSETTO:+0000
TZNAME:UTC
DTSTART:20180101T000000
END:STANDARD
END:VTIMEZONE
BEGIN:VEVENT
DTSTART;TZID=UTC:20180209T190000
DTEND;TZID=UTC:20180209T213000
DTSTAMP:20260424T012306
CREATED:20171213T125027Z
LAST-MODIFIED:20180208T145607Z
UID:940-1518202800-1518211800@www.kullakapell.nu
SUMMARY:Guinea-Bissau afton 9 februari 2018 kl. 19.00 Bildvisning Servering
DESCRIPTION:Gun och Ulf Fransson\, med vänner berättar och visar bilder om arbetet långt nere i Guinea-Bissau djungler. Skolan hade 20-års jubileum i december Radiostationen\, IT-stugan\, sömnadsutbildningen är i full gång. Nya glimtar från de senaste besöken. \n\n \nKapellet i Panti Bu Jubi \n\nHöreda och Mellby kyrkokörer sjunger afrikanska sånger under Urban Gärdborns ledning. Andakt Hanna Alenius  Servering\, Försäljning av afrikanska klänningar mm. Insamling till Guinea-Bissau.
URL:https://www.kullakapell.nu/?tribe_events=guinea-bissau-afton-9-februari-2018-kl-18-00
END:VEVENT
END:VCALENDAR