BEGIN:VCALENDAR
VERSION:2.0
PRODID:-//Kulla kapell - ECPv5.1.6//NONSGML v1.0//EN
CALSCALE:GREGORIAN
METHOD:PUBLISH
X-WR-CALNAME:Kulla kapell
X-ORIGINAL-URL:https://www.kullakapell.nu
X-WR-CALDESC:Händelser för Kulla kapell
BEGIN:VTIMEZONE
TZID:UTC
BEGIN:STANDARD
TZOFFSETFROM:+0000
TZOFFSETTO:+0000
TZNAME:UTC
DTSTART:20170101T000000
END:STANDARD
END:VTIMEZONE
BEGIN:VEVENT
DTSTART;TZID=UTC:20170224T190000
DTEND;TZID=UTC:20170224T210000
DTSTAMP:20260423T161422
CREATED:20161020T184026Z
LAST-MODIFIED:20161111T162733Z
UID:673-1487962800-1487970000@www.kullakapell.nu
SUMMARY:Guinea-Bissau afton fredag 24 februari kl. 19.00
DESCRIPTION:Gun och Ulf Fransson med vänner berättar och visar bilder om verksamheten i Cacine 2016. Andakt Afrikanska sånger. Afrikanska klänningar\, tyger\, té finns till försäljning. Servering. Alla bidrag går till verksamheten i Cacine.
URL:https://www.kullakapell.nu/?tribe_events=guinea-bissau-afton-fredag-10-februari-kl-19-00
END:VEVENT
END:VCALENDAR