BEGIN:VCALENDAR
VERSION:2.0
PRODID:-//Kulla kapell - ECPv5.1.6//NONSGML v1.0//EN
CALSCALE:GREGORIAN
METHOD:PUBLISH
X-WR-CALNAME:Kulla kapell
X-ORIGINAL-URL:https://www.kullakapell.nu
X-WR-CALDESC:Händelser för Kulla kapell
BEGIN:VTIMEZONE
TZID:UTC
BEGIN:STANDARD
TZOFFSETFROM:+0000
TZOFFSETTO:+0000
TZNAME:UTC
DTSTART:20150101T000000
END:STANDARD
END:VTIMEZONE
BEGIN:VEVENT
DTSTART;TZID=UTC:20151115T150000
DTEND;TZID=UTC:20151115T163000
DTSTAMP:20260423T015903
CREATED:20151108T142221Z
LAST-MODIFIED:20151108T142221Z
UID:515-1447599600-1447605000@www.kullakapell.nu
SUMMARY:Högmässa söndag 15 november kl.15.00
DESCRIPTION:15 Söndag kl. 15.00 Högmässa Predikan Erik Svae Musik
URL:https://www.kullakapell.nu/?tribe_events=hogmassa-sondag-15-november-kl-15-00
END:VEVENT
END:VCALENDAR