BEGIN:VCALENDAR
VERSION:2.0
PRODID:-//Kulla kapell - ECPv5.1.6//NONSGML v1.0//EN
CALSCALE:GREGORIAN
METHOD:PUBLISH
X-WR-CALNAME:Kulla kapell
X-ORIGINAL-URL:https://www.kullakapell.nu
X-WR-CALDESC:Händelser för Kulla kapell
BEGIN:VTIMEZONE
TZID:UTC
BEGIN:STANDARD
TZOFFSETFROM:+0000
TZOFFSETTO:+0000
TZNAME:UTC
DTSTART:20150101T000000
END:STANDARD
END:VTIMEZONE
BEGIN:VEVENT
DTSTART;TZID=UTC:20150802T110000
DTEND;TZID=UTC:20150802T130000
DTSTAMP:20260422T230319
CREATED:20150705T210103Z
LAST-MODIFIED:20150705T213510Z
UID:448-1438513200-1438520400@www.kullakapell.nu
SUMMARY:Internationell gudstjänst 2/8 kl. 11.00
DESCRIPTION:Jesus is Lord församlingen i Jönköping-Huskvarna besöker oss. Fika efter gudstjänsten.
URL:https://www.kullakapell.nu/?tribe_events=internationell-gudstjanst-267-kl-11-00
END:VEVENT
END:VCALENDAR