BEGIN:VCALENDAR
VERSION:2.0
PRODID:-//Kulla kapell - ECPv5.1.6//NONSGML v1.0//EN
CALSCALE:GREGORIAN
METHOD:PUBLISH
X-WR-CALNAME:Kulla kapell
X-ORIGINAL-URL:https://www.kullakapell.nu
X-WR-CALDESC:Händelser för Kulla kapell
BEGIN:VTIMEZONE
TZID:UTC
BEGIN:STANDARD
TZOFFSETFROM:+0000
TZOFFSETTO:+0000
TZNAME:UTC
DTSTART:20150101T000000
END:STANDARD
END:VTIMEZONE
BEGIN:VEVENT
DTSTART;TZID=UTC:20151106T183000
DTEND;TZID=UTC:20151106T203000
DTSTAMP:20260423T020027
CREATED:20150605T121313Z
LAST-MODIFIED:20160217T092656Z
UID:435-1446834600-1446841800@www.kullakapell.nu
SUMMARY:Kulla kapell auktion 6 november 2015 kl.18.30
DESCRIPTION:Andakt  Anders Gustavsson Musik Maria Uggla\nAuktionsropare Göte Johansson \n\nLotterier\nServering\nOstkaka\nGåvor mottages\ntacksamt!\n\n\nKulla Kapellförening hälsar alla Välkomna!
URL:https://www.kullakapell.nu/?tribe_events=kulla-kapell-auktion-6-november-2014-kl-18-30
END:VEVENT
END:VCALENDAR