BEGIN:VCALENDAR
VERSION:2.0
PRODID:-//Kulla kapell - ECPv5.1.6//NONSGML v1.0//EN
CALSCALE:GREGORIAN
METHOD:PUBLISH
X-WR-CALNAME:Kulla kapell
X-ORIGINAL-URL:https://www.kullakapell.nu
X-WR-CALDESC:Händelser för Kulla kapell
BEGIN:VTIMEZONE
TZID:UTC
BEGIN:STANDARD
TZOFFSETFROM:+0000
TZOFFSETTO:+0000
TZNAME:UTC
DTSTART:20170101T000000
END:STANDARD
END:VTIMEZONE
BEGIN:VEVENT
DTSTART;TZID=UTC:20170119T190000
DTEND;TZID=UTC:20170119T203000
DTSTAMP:20260423T143958
CREATED:20161020T184142Z
LAST-MODIFIED:20161020T184142Z
UID:674-1484852400-1484857800@www.kullakapell.nu
SUMMARY:Kulla kapellföreningens styrelsemöte 19 januari kl. 19.00
DESCRIPTION:
URL:https://www.kullakapell.nu/?tribe_events=kulla-kapellforeningens-styrelsemote-19-januari-kl-19-00
END:VEVENT
END:VCALENDAR