BEGIN:VCALENDAR
VERSION:2.0
PRODID:-//Kulla kapell - ECPv5.1.6//NONSGML v1.0//EN
CALSCALE:GREGORIAN
METHOD:PUBLISH
X-WR-CALNAME:Kulla kapell
X-ORIGINAL-URL:https://www.kullakapell.nu
X-WR-CALDESC:Händelser för Kulla kapell
BEGIN:VTIMEZONE
TZID:UTC
BEGIN:STANDARD
TZOFFSETFROM:+0000
TZOFFSETTO:+0000
TZNAME:UTC
DTSTART:20170101T000000
END:STANDARD
END:VTIMEZONE
BEGIN:VEVENT
DTSTART;TZID=UTC:20170824T190000
DTEND;TZID=UTC:20170824T210000
DTSTAMP:20260423T190350
CREATED:20170123T225143Z
LAST-MODIFIED:20170501T100903Z
UID:728-1503601200-1503608400@www.kullakapell.nu
SUMMARY:Kulla kapellföreningens styrelsemöte 24 augusti kl.19.00\, Kulla kapell
DESCRIPTION:
URL:https://www.kullakapell.nu/?tribe_events=kulla-kapellforeningens-styrelsemote-24-augusti-kl-19-00-kulla-kapell
END:VEVENT
END:VCALENDAR