BEGIN:VCALENDAR
VERSION:2.0
PRODID:-//Kulla kapell - ECPv5.1.6//NONSGML v1.0//EN
CALSCALE:GREGORIAN
METHOD:PUBLISH
X-WR-CALNAME:Kulla kapell
X-ORIGINAL-URL:https://www.kullakapell.nu
X-WR-CALDESC:Händelser för Kulla kapell
BEGIN:VTIMEZONE
TZID:UTC
BEGIN:STANDARD
TZOFFSETFROM:+0000
TZOFFSETTO:+0000
TZNAME:UTC
DTSTART:20150101T000000
END:STANDARD
END:VTIMEZONE
BEGIN:VEVENT
DTSTART;TZID=UTC:20150827T190000
DTEND;TZID=UTC:20150827T203000
DTSTAMP:20260423T014141
CREATED:20150605T115954Z
LAST-MODIFIED:20150605T115954Z
UID:430-1440702000-1440707400@www.kullakapell.nu
SUMMARY:Kulla kapellföreningens styrelsemöte 27/8 kl. 19.00
DESCRIPTION:Styrelsemöte
URL:https://www.kullakapell.nu/?tribe_events=kulla-kapellforeningens-styrelsemote-278-kl-19-00
END:VEVENT
END:VCALENDAR