BEGIN:VCALENDAR
VERSION:2.0
PRODID:-//Kulla kapell - ECPv5.1.6//NONSGML v1.0//EN
CALSCALE:GREGORIAN
METHOD:PUBLISH
X-WR-CALNAME:Kulla kapell
X-ORIGINAL-URL:https://www.kullakapell.nu
X-WR-CALDESC:Händelser för Kulla kapell
BEGIN:VTIMEZONE
TZID:UTC
BEGIN:STANDARD
TZOFFSETFROM:+0000
TZOFFSETTO:+0000
TZNAME:UTC
DTSTART:20150101T000000
END:STANDARD
END:VTIMEZONE
BEGIN:VEVENT
DTSTART;TZID=UTC:20151029T190000
DTEND;TZID=UTC:20151029T203000
DTSTAMP:20260423T015857
CREATED:20150605T120946Z
LAST-MODIFIED:20150605T120946Z
UID:434-1446145200-1446150600@www.kullakapell.nu
SUMMARY:Kulla kapellföreningens styrelsemöte 29/10 kl. 19.00
DESCRIPTION:
URL:https://www.kullakapell.nu/?tribe_events=kulla-kapellforeningens-styrelsemote-2910-kl-19-00
END:VEVENT
END:VCALENDAR