BEGIN:VCALENDAR
VERSION:2.0
PRODID:-//Kulla kapell - ECPv5.1.6//NONSGML v1.0//EN
CALSCALE:GREGORIAN
METHOD:PUBLISH
X-WR-CALNAME:Kulla kapell
X-ORIGINAL-URL:https://www.kullakapell.nu
X-WR-CALDESC:Händelser för Kulla kapell
BEGIN:VTIMEZONE
TZID:UTC
BEGIN:STANDARD
TZOFFSETFROM:+0000
TZOFFSETTO:+0000
TZNAME:UTC
DTSTART:20160101T000000
END:STANDARD
END:VTIMEZONE
BEGIN:VEVENT
DTSTART;TZID=UTC:20160427T190000
DTEND;TZID=UTC:20160427T203000
DTSTAMP:20260423T072149
CREATED:20160130T214829Z
LAST-MODIFIED:20160327T123842Z
UID:537-1461783600-1461789000@www.kullakapell.nu
SUMMARY:Kulla kapellförenings styrelsemöte 27 april kl.19.00
DESCRIPTION:
URL:https://www.kullakapell.nu/?tribe_events=kulla-kapellforenings-styrelsemote-21-april-kl-19-00
END:VEVENT
END:VCALENDAR