BEGIN:VCALENDAR
VERSION:2.0
PRODID:-//Kulla kapell - ECPv5.1.6//NONSGML v1.0//EN
CALSCALE:GREGORIAN
METHOD:PUBLISH
X-WR-CALNAME:Kulla kapell
X-ORIGINAL-URL:https://www.kullakapell.nu
X-WR-CALDESC:Händelser för Kulla kapell
BEGIN:VTIMEZONE
TZID:UTC
BEGIN:STANDARD
TZOFFSETFROM:+0000
TZOFFSETTO:+0000
TZNAME:UTC
DTSTART:20170101T000000
END:STANDARD
END:VTIMEZONE
BEGIN:VEVENT
DTSTART;TZID=UTC:20170426T100000
DTEND;TZID=UTC:20170426T120000
DTSTAMP:20260423T190318
CREATED:20170124T154854Z
LAST-MODIFIED:20170124T154854Z
UID:744-1493200800-1493208000@www.kullakapell.nu
SUMMARY:Kulla  Lilla  Syförening  symöte  onsdag 26 april kl. 10.00
DESCRIPTION:
URL:https://www.kullakapell.nu/?tribe_events=kulla-lilla-syforening-symote-onsdag-26-april-kl-10-00
END:VEVENT
END:VCALENDAR