BEGIN:VCALENDAR
VERSION:2.0
PRODID:-//Kulla kapell - ECPv5.1.6//NONSGML v1.0//EN
CALSCALE:GREGORIAN
METHOD:PUBLISH
X-WR-CALNAME:Kulla kapell
X-ORIGINAL-URL:https://www.kullakapell.nu
X-WR-CALDESC:Händelser för Kulla kapell
BEGIN:VTIMEZONE
TZID:UTC
BEGIN:STANDARD
TZOFFSETFROM:+0000
TZOFFSETTO:+0000
TZNAME:UTC
DTSTART:20150101T000000
END:STANDARD
END:VTIMEZONE
BEGIN:VEVENT
DTSTART;TZID=UTC:20150906T170000
DTEND;TZID=UTC:20150906T190000
DTSTAMP:20260423T020024
CREATED:20150507T213015Z
LAST-MODIFIED:20150507T213015Z
UID:428-1441558800-1441566000@www.kullakapell.nu
SUMMARY:Kvällsmässa söndag 6 september kl. 18.00
DESCRIPTION:Predikan Musik
URL:https://www.kullakapell.nu/?tribe_events=kvallsmassa-sondag-6-september-kl-18-00
END:VEVENT
END:VCALENDAR