BEGIN:VCALENDAR
VERSION:2.0
PRODID:-//Kulla kapell - ECPv5.1.6//NONSGML v1.0//EN
CALSCALE:GREGORIAN
METHOD:PUBLISH
X-WR-CALNAME:Kulla kapell
X-ORIGINAL-URL:https://www.kullakapell.nu
X-WR-CALDESC:Händelser för Kulla kapell
BEGIN:VTIMEZONE
TZID:UTC
BEGIN:STANDARD
TZOFFSETFROM:+0000
TZOFFSETTO:+0000
TZNAME:UTC
DTSTART:20190101T000000
END:STANDARD
END:VTIMEZONE
BEGIN:VEVENT
DTSTART;TZID=UTC:20190824T180000
DTEND;TZID=UTC:20190824T190000
DTSTAMP:20260424T074408
CREATED:20190507T172930Z
LAST-MODIFIED:20190814T212134Z
UID:1347-1566669600-1566673200@www.kullakapell.nu
SUMMARY:Lördag 24 augusti kl.18.00 Andakt i sommarkväl
DESCRIPTION:Andakt Hanna Alenius\nMusik Ann-Marie Olaison
URL:https://www.kullakapell.nu/?tribe_events=lordag-24-augusti-kl-18-00-andakt-i-sommarkval
END:VEVENT
END:VCALENDAR