BEGIN:VCALENDAR
VERSION:2.0
PRODID:-//Kulla kapell - ECPv5.1.6//NONSGML v1.0//EN
CALSCALE:GREGORIAN
METHOD:PUBLISH
X-WR-CALNAME:Kulla kapell
X-ORIGINAL-URL:https://www.kullakapell.nu
X-WR-CALDESC:Händelser för Kulla kapell
BEGIN:VTIMEZONE
TZID:UTC
BEGIN:STANDARD
TZOFFSETFROM:+0000
TZOFFSETTO:+0000
TZNAME:UTC
DTSTART:20190101T000000
END:STANDARD
END:VTIMEZONE
BEGIN:VEVENT
DTSTART;TZID=UTC:20190727T180000
DTEND;TZID=UTC:20190727T190000
DTSTAMP:20260424T092527
CREATED:20190507T172817Z
LAST-MODIFIED:20190723T202539Z
UID:1345-1564250400-1564254000@www.kullakapell.nu
SUMMARY:Lördag 27 juli kl.18.00 Sommarandakt med musik
DESCRIPTION:Andakt Göte Johansson\nMusik Ann-Marie Olaison
URL:https://www.kullakapell.nu/?tribe_events=lordag-27-juli-kl-18-00-andakt-i-sommarkvall
END:VEVENT
END:VCALENDAR