BEGIN:VCALENDAR
VERSION:2.0
PRODID:-//Kulla kapell - ECPv5.1.6//NONSGML v1.0//EN
CALSCALE:GREGORIAN
METHOD:PUBLISH
X-WR-CALNAME:Kulla kapell
X-ORIGINAL-URL:https://www.kullakapell.nu
X-WR-CALDESC:Händelser för Kulla kapell
BEGIN:VTIMEZONE
TZID:UTC
BEGIN:STANDARD
TZOFFSETFROM:+0000
TZOFFSETTO:+0000
TZNAME:UTC
DTSTART:20160101T000000
END:STANDARD
END:VTIMEZONE
BEGIN:VEVENT
DTSTART;TZID=UTC:20160806T180000
DTEND;TZID=UTC:20160806T193000
DTSTAMP:20260423T071031
CREATED:20160710T173812Z
LAST-MODIFIED:20160710T173812Z
UID:623-1470506400-1470511800@www.kullakapell.nu
SUMMARY:Lördag  6 augusti kl. 18.00 Psalm i sommarkväll
DESCRIPTION:Välkommen till ”Psalm i sommarkväll” Andakt Bo Bergstrand Musik Ann-Marie Olaison  
URL:https://www.kullakapell.nu/?tribe_events=lordag-6-augusti-kl-18-00-psalm-i-sommarkvall
END:VEVENT
END:VCALENDAR