BEGIN:VCALENDAR
VERSION:2.0
PRODID:-//Kulla kapell - ECPv5.1.6//NONSGML v1.0//EN
CALSCALE:GREGORIAN
METHOD:PUBLISH
X-WR-CALNAME:Kulla kapell
X-ORIGINAL-URL:https://www.kullakapell.nu
X-WR-CALDESC:Händelser för Kulla kapell
BEGIN:VTIMEZONE
TZID:UTC
BEGIN:STANDARD
TZOFFSETFROM:+0000
TZOFFSETTO:+0000
TZNAME:UTC
DTSTART:20150101T000000
END:STANDARD
END:VTIMEZONE
BEGIN:VEVENT
DTSTART;TZID=UTC:20150112T180000
DTEND;TZID=UTC:20150112T210000
DTSTAMP:20260422T155414
CREATED:20141022T094527Z
LAST-MODIFIED:20141022T094527Z
UID:315-1421085600-1421096400@www.kullakapell.nu
SUMMARY:Måndag 12/1   kl. 18.00 – 21.00 Stick-café.
DESCRIPTION:Vi stickar tillsammans! Du kan lära dej nya tekniker. Fika finns till självkostnadspris.
URL:https://www.kullakapell.nu/?tribe_events=mandag-121-kl-18-00-21-00-stick-cafe
CATEGORIES:Stickcafé
END:VEVENT
END:VCALENDAR