BEGIN:VCALENDAR
VERSION:2.0
PRODID:-//Kulla kapell - ECPv5.1.6//NONSGML v1.0//EN
CALSCALE:GREGORIAN
METHOD:PUBLISH
X-WR-CALNAME:Kulla kapell
X-ORIGINAL-URL:https://www.kullakapell.nu
X-WR-CALDESC:Händelser för Kulla kapell
BEGIN:VTIMEZONE
TZID:UTC
BEGIN:STANDARD
TZOFFSETFROM:+0000
TZOFFSETTO:+0000
TZNAME:UTC
DTSTART:20160101T000000
END:STANDARD
END:VTIMEZONE
BEGIN:VEVENT
DTSTART;TZID=UTC:20160505T080000
DTEND;TZID=UTC:20160505T100000
DTSTAMP:20260423T060228
CREATED:20160117T160627Z
LAST-MODIFIED:20160117T160627Z
UID:531-1462435200-1462442400@www.kullakapell.nu
SUMMARY:Morgongudstjänst 5 maj kl. 08.00 Kristi Himmelsfärdsdagen
DESCRIPTION:Kristi himmelsfärdsdagen\nMedverkande: Andakt\nNässjö Manskör under Susanne Lindgrens ledning\nVid stort deltagande sitter vi även ute.\nEfteråt serveras fika och vi lyssnar till manskörens och fåglarnas sång.\nArrangör: Kulla kapellförening \n\n+ GOOGLE CALENDAR
URL:https://www.kullakapell.nu/?tribe_events=morgongudstjanst-5-maj-kl-08-00-kristi-himmelsfardsdagen
END:VEVENT
END:VCALENDAR